Package: ChIPseeker Version: 1.38.0 Command: /home/biocbuild/R/R-4.3.1/bin/R CMD build --keep-empty-dirs --no-resave-data ChIPseeker StartedAt: 2023-11-01 23:21:11 -0000 (Wed, 01 Nov 2023) EndedAt: 2023-11-01 23:31:18 -0000 (Wed, 01 Nov 2023) EllapsedTime: 607.2 seconds RetCode: 0 Status: OK PackageFile: ChIPseeker_1.38.0.tar.gz PackageFileSize: 6.97 MiB