Package: ChIPseeker Version: 1.38.0 Maintainer: Guangchuang Yu MaintainerEmail: guangchuangyu at gmail.com git_url: https://git.bioconductor.org/packages/ChIPseeker git_branch: RELEASE_3_18 git_last_commit: 7da66e2 git_last_commit_date: 2023-10-24 09:58:56 -0400 (Tue, 24 Oct 2023)