Package: ChIPanalyser Version: 1.24.0 Maintainer: Patrick C.N. Martin MaintainerEmail: pcnmartin at gmail.com git_url: https://git.bioconductor.org/packages/ChIPanalyser git_branch: RELEASE_3_18 git_last_commit: c88afcb git_last_commit_date: 2023-10-24 10:59:22 -0400 (Tue, 24 Oct 2023)