Package: ChAMP Version: 2.32.0 Command: /Library/Frameworks/R.framework/Resources/bin/R CMD INSTALL ChAMP StartedAt: 2024-03-03 15:48:52 -0500 (Sun, 03 Mar 2024) EndedAt: 2024-03-03 15:49:42 -0500 (Sun, 03 Mar 2024) EllapsedTime: 49.2 seconds RetCode: 0 Status: OK