Package: CexoR Version: 1.40.0 Command: F:\biocbuild\bbs-3.18-bioc\R\bin\R.exe CMD check --no-multiarch --install=check:CexoR.install-out.txt --library=F:\biocbuild\bbs-3.18-bioc\R\library --no-vignettes --timings CexoR_1.40.0.tar.gz StartedAt: 2024-04-15 23:11:01 -0400 (Mon, 15 Apr 2024) EndedAt: 2024-04-15 23:16:30 -0400 (Mon, 15 Apr 2024) EllapsedTime: 329.0 seconds RetCode: 0 Status: OK CheckDir: CexoR.Rcheck Warnings: 0