Package: CexoR Version: 1.40.0 Command: /home/biocbuild/R/R-4.3.1/bin/R CMD check --install=check:CexoR.install-out.txt --library=/home/biocbuild/R/R-4.3.1/site-library --no-vignettes --timings CexoR_1.40.0.tar.gz StartedAt: 2023-11-02 09:08:24 -0000 (Thu, 02 Nov 2023) EndedAt: 2023-11-02 09:15:24 -0000 (Thu, 02 Nov 2023) EllapsedTime: 419.9 seconds RetCode: 0 Status: OK CheckDir: CexoR.Rcheck Warnings: 0