Package: Cepo Version: 1.8.0 Command: /home/biocbuild/bbs-3.18-bioc/R/bin/R CMD check --install=check:Cepo.install-out.txt --library=/home/biocbuild/bbs-3.18-bioc/R/site-library --timings Cepo_1.8.0.tar.gz StartedAt: 2024-04-15 21:03:03 -0400 (Mon, 15 Apr 2024) EndedAt: 2024-04-15 21:09:09 -0400 (Mon, 15 Apr 2024) EllapsedTime: 365.2 seconds RetCode: 0 Status: WARNINGS CheckDir: Cepo.Rcheck Warnings: 3