Package: CelliD Version: 1.10.1 Command: /home/biocbuild/bbs-3.18-bioc/R/bin/R CMD INSTALL CelliD StartedAt: 2024-04-15 15:43:53 -0400 (Mon, 15 Apr 2024) EndedAt: 2024-04-15 15:45:10 -0400 (Mon, 15 Apr 2024) EllapsedTime: 76.5 seconds RetCode: 0 Status: OK