Package: CellaRepertorium Version: 1.12.0 Command: /Library/Frameworks/R.framework/Resources/bin/R CMD INSTALL CellaRepertorium StartedAt: 2024-03-03 15:09:53 -0500 (Sun, 03 Mar 2024) EndedAt: 2024-03-03 15:10:38 -0500 (Sun, 03 Mar 2024) EllapsedTime: 45.6 seconds RetCode: 0 Status: OK