Package: CellTrails Version: 1.20.0 Command: /Library/Frameworks/R.framework/Resources/bin/R CMD build --keep-empty-dirs --no-resave-data CellTrails StartedAt: 2024-03-03 16:10:40 -0500 (Sun, 03 Mar 2024) EndedAt: 2024-03-03 16:11:27 -0500 (Sun, 03 Mar 2024) EllapsedTime: 47.2 seconds RetCode: 0 Status: OK PackageFile: CellTrails_1.20.0.tar.gz PackageFileSize: 2.628 MiB