Package: CellNOptR Version: 1.48.0 Command: rm -rf CellNOptR.buildbin-libdir && mkdir CellNOptR.buildbin-libdir && /Users/biocbuild/BBS/utils/build-universal.sh CellNOptR_1.48.0.tar.gz /Library/Frameworks/R.framework/Resources/bin/R CellNOptR.buildbin-libdir StartedAt: 2024-04-16 11:12:12 -0400 (Tue, 16 Apr 2024) EndedAt: 2024-04-16 11:13:22 -0400 (Tue, 16 Apr 2024) EllapsedTime: 69.7 seconds RetCode: 0 Status: OK PackageFile: CellNOptR_1.48.0.tgz PackageFileSize: 2.88 MiB