Package: CellNOptR Version: 1.48.0 Command: /Library/Frameworks/R.framework/Resources/bin/R CMD check --install=check:CellNOptR.install-out.txt --library=/Library/Frameworks/R.framework/Resources/library --no-vignettes --timings CellNOptR_1.48.0.tar.gz StartedAt: 2024-03-03 19:31:05 -0500 (Sun, 03 Mar 2024) EndedAt: 2024-03-03 19:33:33 -0500 (Sun, 03 Mar 2024) EllapsedTime: 148.4 seconds RetCode: 0 Status: OK CheckDir: CellNOptR.Rcheck Warnings: 0