Package: CellNOptR Version: 1.48.0 Command: /home/biocbuild/R/R-4.3.1/bin/R CMD build --keep-empty-dirs --no-resave-data CellNOptR StartedAt: 2023-11-01 23:09:12 -0000 (Wed, 01 Nov 2023) EndedAt: 2023-11-01 23:09:44 -0000 (Wed, 01 Nov 2023) EllapsedTime: 32.0 seconds RetCode: 0 Status: OK PackageFile: CellNOptR_1.48.0.tar.gz PackageFileSize: 3.491 MiB