Package: CellBench Version: 1.18.0 Command: F:\biocbuild\bbs-3.18-bioc\R\bin\R.exe CMD INSTALL CellBench StartedAt: 2024-04-15 15:52:12 -0400 (Mon, 15 Apr 2024) EndedAt: 2024-04-15 15:52:53 -0400 (Mon, 15 Apr 2024) EllapsedTime: 40.2 seconds RetCode: 0 Status: OK