Package: CellBench Version: 1.18.0 Command: F:\biocbuild\bbs-3.18-bioc\R\bin\R.exe CMD check --no-multiarch --install=check:CellBench.install-out.txt --library=F:\biocbuild\bbs-3.18-bioc\R\library --no-vignettes --timings CellBench_1.18.0.tar.gz StartedAt: 2024-04-15 23:06:50 -0400 (Mon, 15 Apr 2024) EndedAt: 2024-04-15 23:11:35 -0400 (Mon, 15 Apr 2024) EllapsedTime: 285.1 seconds RetCode: 0 Status: OK CheckDir: CellBench.Rcheck Warnings: 0