Package: CellBench Version: 1.18.0 Command: chmod a+r CellBench -R && F:\biocbuild\bbs-3.18-bioc\R\bin\R.exe CMD build --keep-empty-dirs --no-resave-data CellBench StartedAt: 2024-04-15 17:28:22 -0400 (Mon, 15 Apr 2024) EndedAt: 2024-04-15 17:29:35 -0400 (Mon, 15 Apr 2024) EllapsedTime: 73.8 seconds RetCode: 0 Status: OK PackageFile: CellBench_1.18.0.tar.gz PackageFileSize: 2.944 MiB