Package: CellBench Version: 1.18.0 Command: rm -rf CellBench.buildbin-libdir && mkdir CellBench.buildbin-libdir && F:\biocbuild\bbs-3.18-bioc\R\bin\R.exe CMD INSTALL --build --library=CellBench.buildbin-libdir CellBench_1.18.0.tar.gz StartedAt: 2024-04-16 06:46:30 -0400 (Tue, 16 Apr 2024) EndedAt: 2024-04-16 06:47:10 -0400 (Tue, 16 Apr 2024) EllapsedTime: 40.8 seconds RetCode: 0 Status: OK PackageFile: CellBench_1.18.0.zip PackageFileSize: 3.032 MiB