Package: CellBench Version: 1.18.0 Command: /home/biocbuild/bbs-3.18-bioc/R/bin/R CMD build --keep-empty-dirs --no-resave-data CellBench StartedAt: 2024-04-15 16:21:34 -0400 (Mon, 15 Apr 2024) EndedAt: 2024-04-15 16:22:27 -0400 (Mon, 15 Apr 2024) EllapsedTime: 53.0 seconds RetCode: 0 Status: OK PackageFile: CellBench_1.18.0.tar.gz PackageFileSize: 2.992 MiB