Package: CellBench Version: 1.18.0 Command: /Library/Frameworks/R.framework/Resources/bin/R CMD build --keep-empty-dirs --no-resave-data CellBench StartedAt: 2024-04-15 17:31:09 -0400 (Mon, 15 Apr 2024) EndedAt: 2024-04-15 17:33:01 -0400 (Mon, 15 Apr 2024) EllapsedTime: 112.2 seconds RetCode: 0 Status: OK PackageFile: CellBench_1.18.0.tar.gz PackageFileSize: 3.022 MiB