Package: CellBench Version: 1.18.0 Command: rm -rf CellBench.buildbin-libdir && mkdir CellBench.buildbin-libdir && /Users/biocbuild/BBS/utils/build-universal.sh CellBench_1.18.0.tar.gz /Library/Frameworks/R.framework/Resources/bin/R CellBench.buildbin-libdir StartedAt: 2024-03-04 00:32:57 -0500 (Mon, 04 Mar 2024) EndedAt: 2024-03-04 00:33:39 -0500 (Mon, 04 Mar 2024) EllapsedTime: 42.1 seconds RetCode: 0 Status: OK PackageFile: CellBench_1.18.0.tgz PackageFileSize: 3.079 MiB