Package: CellBench Version: 1.18.0 Command: /home/biocbuild/R/R-4.3.1/bin/R CMD check --install=check:CellBench.install-out.txt --library=/home/biocbuild/R/R-4.3.1/site-library --no-vignettes --timings CellBench_1.18.0.tar.gz StartedAt: 2023-11-02 09:04:31 -0000 (Thu, 02 Nov 2023) EndedAt: 2023-11-02 09:09:37 -0000 (Thu, 02 Nov 2023) EllapsedTime: 306.2 seconds RetCode: 0 Status: OK CheckDir: CellBench.Rcheck Warnings: 0