Package: CellBench Version: 1.18.0 Command: /home/biocbuild/R/R-4.3.1/bin/R CMD build --keep-empty-dirs --no-resave-data CellBench StartedAt: 2023-11-01 23:06:35 -0000 (Wed, 01 Nov 2023) EndedAt: 2023-11-01 23:07:49 -0000 (Wed, 01 Nov 2023) EllapsedTime: 74.1 seconds RetCode: 0 Status: OK PackageFile: CellBench_1.18.0.tar.gz PackageFileSize: 3.125 MiB