Package: CellBarcode Version: 1.8.1 Command: F:\biocbuild\bbs-3.18-bioc\R\bin\R.exe CMD INSTALL CellBarcode StartedAt: 2024-04-15 16:10:41 -0400 (Mon, 15 Apr 2024) EndedAt: 2024-04-15 16:12:16 -0400 (Mon, 15 Apr 2024) EllapsedTime: 94.8 seconds RetCode: 0 Status: OK