Package: CardinalIO Version: 1.0.0 Command: rm -rf CardinalIO.buildbin-libdir && mkdir CardinalIO.buildbin-libdir && /Users/biocbuild/BBS/utils/build-universal.sh CardinalIO_1.0.0.tar.gz /Library/Frameworks/R.framework/Resources/bin/R CardinalIO.buildbin-libdir StartedAt: 2024-04-16 11:10:00 -0400 (Tue, 16 Apr 2024) EndedAt: 2024-04-16 11:10:52 -0400 (Tue, 16 Apr 2024) EllapsedTime: 52.2 seconds RetCode: 0 Status: OK PackageFile: CardinalIO_1.0.0.tgz PackageFileSize: 1.227 MiB