Package: CardinalIO Version: 1.0.0 Command: /home/biocbuild/R/R-4.3.1/bin/R CMD build --keep-empty-dirs --no-resave-data CardinalIO StartedAt: 2023-11-01 23:01:08 -0000 (Wed, 01 Nov 2023) EndedAt: 2023-11-01 23:01:41 -0000 (Wed, 01 Nov 2023) EllapsedTime: 33.0 seconds RetCode: 0 Status: OK PackageFile: CardinalIO_1.0.0.tar.gz PackageFileSize: 990.4 KiB