Package: Cardinal Version: 3.4.3 Command: /home/biocbuild/bbs-3.18-bioc/R/bin/R CMD INSTALL Cardinal StartedAt: 2024-04-15 15:24:24 -0400 (Mon, 15 Apr 2024) EndedAt: 2024-04-15 15:25:02 -0400 (Mon, 15 Apr 2024) EllapsedTime: 38.5 seconds RetCode: 0 Status: OK