Package: Cardinal Version: 3.4.3 Command: /Library/Frameworks/R.framework/Resources/bin/R CMD build --keep-empty-dirs --no-resave-data Cardinal StartedAt: 2024-04-15 17:27:28 -0400 (Mon, 15 Apr 2024) EndedAt: 2024-04-15 17:31:24 -0400 (Mon, 15 Apr 2024) EllapsedTime: 236.6 seconds RetCode: 0 Status: OK PackageFile: Cardinal_3.4.3.tar.gz PackageFileSize: 3.8 MiB