Package: CancerInSilico Version: 2.22.0 Command: /Library/Frameworks/R.framework/Resources/bin/R CMD INSTALL CancerInSilico StartedAt: 2024-03-03 15:04:48 -0500 (Sun, 03 Mar 2024) EndedAt: 2024-03-03 15:05:51 -0500 (Sun, 03 Mar 2024) EllapsedTime: 62.9 seconds RetCode: 0 Status: OK