Package: CTdata Version: 1.2.0 Command: rm -rf CTdata.buildbin-libdir && mkdir CTdata.buildbin-libdir && F:\biocbuild\bbs-3.18-bioc\R\bin\R.exe CMD INSTALL --build --library=CTdata.buildbin-libdir CTdata_1.2.0.tar.gz StartedAt: 2024-04-16 06:52:21 -0400 (Tue, 16 Apr 2024) EndedAt: 2024-04-16 06:52:47 -0400 (Tue, 16 Apr 2024) EllapsedTime: 26.3 seconds RetCode: 0 Status: OK PackageFile: CTdata_1.2.0.zip PackageFileSize: 460.2 KiB