Package: CTdata Version: 1.2.0 Command: /Library/Frameworks/R.framework/Resources/bin/R CMD check --install=check:CTdata.install-out.txt --library=/Library/Frameworks/R.framework/Resources/library --no-vignettes --timings CTdata_1.2.0.tar.gz StartedAt: 2024-03-03 19:57:31 -0500 (Sun, 03 Mar 2024) EndedAt: 2024-03-03 20:00:33 -0500 (Sun, 03 Mar 2024) EllapsedTime: 181.4 seconds RetCode: 0 Status: OK CheckDir: CTdata.Rcheck Warnings: 0