Package: CTdata Version: 1.2.0 Command: /Library/Frameworks/R.framework/Resources/bin/R CMD build --keep-empty-dirs --no-resave-data CTdata StartedAt: 2024-03-03 16:24:05 -0500 (Sun, 03 Mar 2024) EndedAt: 2024-03-03 16:26:15 -0500 (Sun, 03 Mar 2024) EllapsedTime: 130.3 seconds RetCode: 0 Status: OK PackageFile: CTdata_1.2.0.tar.gz PackageFileSize: 424.7 KiB