Package: CTDquerier Version: 2.10.0 Command: rm -rf CTDquerier.buildbin-libdir && mkdir CTDquerier.buildbin-libdir && F:\biocbuild\bbs-3.18-bioc\R\bin\R.exe CMD INSTALL --build --library=CTDquerier.buildbin-libdir CTDquerier_2.10.0.tar.gz StartedAt: 2024-04-16 06:52:25 -0400 (Tue, 16 Apr 2024) EndedAt: 2024-04-16 06:52:41 -0400 (Tue, 16 Apr 2024) EllapsedTime: 15.9 seconds RetCode: 0 Status: OK PackageFile: CTDquerier_2.10.0.zip PackageFileSize: 2.717 MiB