Package: CSAR Version: 1.54.0 Command: /home/biocbuild/bbs-3.18-bioc/R/bin/R CMD INSTALL CSAR StartedAt: 2024-04-15 15:11:02 -0400 (Mon, 15 Apr 2024) EndedAt: 2024-04-15 15:11:14 -0400 (Mon, 15 Apr 2024) EllapsedTime: 12.0 seconds RetCode: 0 Status: OK