Package: CSAR Version: 1.54.0 Command: /home/biocbuild/bbs-3.18-bioc/R/bin/R CMD build --keep-empty-dirs --no-resave-data CSAR StartedAt: 2024-04-15 16:39:41 -0400 (Mon, 15 Apr 2024) EndedAt: 2024-04-15 16:40:07 -0400 (Mon, 15 Apr 2024) EllapsedTime: 26.3 seconds RetCode: 0 Status: OK PackageFile: CSAR_1.54.0.tar.gz PackageFileSize: 110.4 KiB