Package: CSAR Version: 1.54.0 Command: rm -rf CSAR.buildbin-libdir && mkdir CSAR.buildbin-libdir && /Users/biocbuild/BBS/utils/build-universal.sh CSAR_1.54.0.tar.gz /Library/Frameworks/R.framework/Resources/bin/R CSAR.buildbin-libdir StartedAt: 2024-04-16 11:23:43 -0400 (Tue, 16 Apr 2024) EndedAt: 2024-04-16 11:24:17 -0400 (Tue, 16 Apr 2024) EllapsedTime: 33.5 seconds RetCode: 0 Status: OK PackageFile: CSAR_1.54.0.tgz PackageFileSize: 302.4 KiB