Package: CSAR Version: 1.54.0 Command: /Library/Frameworks/R.framework/Resources/bin/R CMD INSTALL CSAR StartedAt: 2024-03-03 15:08:49 -0500 (Sun, 03 Mar 2024) EndedAt: 2024-03-03 15:09:09 -0500 (Sun, 03 Mar 2024) EllapsedTime: 19.4 seconds RetCode: 0 Status: OK