Package: CSAR Version: 1.54.0 Command: /Library/Frameworks/R.framework/Resources/bin/R CMD build --keep-empty-dirs --no-resave-data CSAR StartedAt: 2024-03-03 16:23:45 -0500 (Sun, 03 Mar 2024) EndedAt: 2024-03-03 16:24:23 -0500 (Sun, 03 Mar 2024) EllapsedTime: 37.3 seconds RetCode: 0 Status: OK PackageFile: CSAR_1.54.0.tar.gz PackageFileSize: 233.3 KiB