Package: CSAR Version: 1.54.0 Command: /home/biocbuild/R/R-4.3.1/bin/R CMD INSTALL CSAR StartedAt: 2023-11-01 20:10:58 -0000 (Wed, 01 Nov 2023) EndedAt: 2023-11-01 20:11:12 -0000 (Wed, 01 Nov 2023) EllapsedTime: 13.4 seconds RetCode: 0 Status: OK