Package: COSNet Version: 1.36.0 Command: /home/biocbuild/R/R-4.3.1/bin/R CMD INSTALL COSNet StartedAt: 2023-11-01 20:06:31 -0000 (Wed, 01 Nov 2023) EndedAt: 2023-11-01 20:06:47 -0000 (Wed, 01 Nov 2023) EllapsedTime: 16.5 seconds RetCode: 0 Status: OK