Package: COSNet Version: 1.36.0 Command: /home/biocbuild/R/R-4.3.1/bin/R CMD check --install=check:COSNet.install-out.txt --library=/home/biocbuild/R/R-4.3.1/site-library --no-vignettes --timings COSNet_1.36.0.tar.gz StartedAt: 2023-11-02 09:35:49 -0000 (Thu, 02 Nov 2023) EndedAt: 2023-11-02 09:37:01 -0000 (Thu, 02 Nov 2023) EllapsedTime: 72.1 seconds RetCode: 0 Status: WARNINGS CheckDir: COSNet.Rcheck Warnings: 1