Package: CONSTANd Version: 1.10.0 Command: F:\biocbuild\bbs-3.18-bioc\R\bin\R.exe CMD check --no-multiarch --install=check:CONSTANd.install-out.txt --library=F:\biocbuild\bbs-3.18-bioc\R\library --no-vignettes --timings CONSTANd_1.10.0.tar.gz StartedAt: 2024-04-15 23:38:14 -0400 (Mon, 15 Apr 2024) EndedAt: 2024-04-15 23:38:36 -0400 (Mon, 15 Apr 2024) EllapsedTime: 21.5 seconds RetCode: 0 Status: OK CheckDir: CONSTANd.Rcheck Warnings: 0