Package: CONFESS Version: 1.30.0 Command: /home/biocbuild/bbs-3.18-bioc/R/bin/R CMD check --install=check:CONFESS.install-out.txt --library=/home/biocbuild/bbs-3.18-bioc/R/site-library --timings CONFESS_1.30.0.tar.gz StartedAt: 2024-04-15 21:31:13 -0400 (Mon, 15 Apr 2024) EndedAt: 2024-04-15 21:40:53 -0400 (Mon, 15 Apr 2024) EllapsedTime: 579.4 seconds RetCode: 0 Status: WARNINGS CheckDir: CONFESS.Rcheck Warnings: 1