Package: CONFESS Version: 1.30.0 Command: /home/biocbuild/bbs-3.18-bioc/R/bin/R CMD build --keep-empty-dirs --no-resave-data CONFESS StartedAt: 2024-04-15 16:35:21 -0400 (Mon, 15 Apr 2024) EndedAt: 2024-04-15 16:37:48 -0400 (Mon, 15 Apr 2024) EllapsedTime: 147.1 seconds RetCode: 0 Status: OK PackageFile: CONFESS_1.30.0.tar.gz PackageFileSize: 3.588 MiB