Package: CONFESS Version: 1.30.0 Command: /Library/Frameworks/R.framework/Resources/bin/R CMD build --keep-empty-dirs --no-resave-data CONFESS StartedAt: 2024-04-15 17:52:48 -0400 (Mon, 15 Apr 2024) EndedAt: 2024-04-15 17:57:43 -0400 (Mon, 15 Apr 2024) EllapsedTime: 295.8 seconds RetCode: 0 Status: OK PackageFile: CONFESS_1.30.0.tar.gz PackageFileSize: 3.588 MiB