Package: CONFESS Version: 1.30.0 Command: /Library/Frameworks/R.framework/Resources/bin/R CMD INSTALL CONFESS StartedAt: 2024-03-03 15:33:21 -0500 (Sun, 03 Mar 2024) EndedAt: 2024-03-03 15:34:27 -0500 (Sun, 03 Mar 2024) EllapsedTime: 66.1 seconds RetCode: 0 Status: OK