Package: CONFESS Version: 1.30.0 Command: /home/biocbuild/R/R-4.3.1/bin/R CMD INSTALL CONFESS StartedAt: 2023-11-01 20:46:49 -0000 (Wed, 01 Nov 2023) EndedAt: 2023-11-01 20:47:53 -0000 (Wed, 01 Nov 2023) EllapsedTime: 64.9 seconds RetCode: 0 Status: OK