Package: COHCAP Version: 1.48.0 Command: rm -rf COHCAP.buildbin-libdir && mkdir COHCAP.buildbin-libdir && F:\biocbuild\bbs-3.18-bioc\R\bin\R.exe CMD INSTALL --build --library=COHCAP.buildbin-libdir COHCAP_1.48.0.tar.gz StartedAt: 2024-04-16 06:50:17 -0400 (Tue, 16 Apr 2024) EndedAt: 2024-04-16 06:51:06 -0400 (Tue, 16 Apr 2024) EllapsedTime: 49.4 seconds RetCode: 0 Status: OK PackageFile: COHCAP_1.48.0.zip PackageFileSize: 703.2 KiB