Package: COHCAP Version: 1.48.0 Command: rm -rf COHCAP.buildbin-libdir && mkdir COHCAP.buildbin-libdir && /Users/biocbuild/BBS/utils/build-universal.sh COHCAP_1.48.0.tar.gz /Library/Frameworks/R.framework/Resources/bin/R COHCAP.buildbin-libdir StartedAt: 2024-04-16 11:19:56 -0400 (Tue, 16 Apr 2024) EndedAt: 2024-04-16 11:21:19 -0400 (Tue, 16 Apr 2024) EllapsedTime: 83.0 seconds RetCode: 0 Status: OK PackageFile: COHCAP_1.48.0.tgz PackageFileSize: 436.6 KiB