############################################################################## ############################################################################## ### ### Running command: ### ### /home/biocbuild/R/R-4.3.1/bin/R CMD INSTALL COHCAP ### ############################################################################## ############################################################################## * installing to library ‘/home/biocbuild/R/R-4.3.1/site-library’ * installing *source* package ‘COHCAP’ ... ** using staged installation ** libs using C++ compiler: ‘g++ (GCC) 10.3.1’ g++ -std=gnu++17 -I"/home/biocbuild/R/R-4.3.1/include" -DNDEBUG -I'/home/biocbuild/R/R-4.3.1/site-library/Rcpp/include' -I'/home/biocbuild/R/R-4.3.1/site-library/BH/include' -I/usr/local/include -fPIC -g -O2 -Wall -c RcppExports.cpp -o RcppExports.o g++ -std=gnu++17 -I"/home/biocbuild/R/R-4.3.1/include" -DNDEBUG -I'/home/biocbuild/R/R-4.3.1/site-library/Rcpp/include' -I'/home/biocbuild/R/R-4.3.1/site-library/BH/include' -I/usr/local/include -fPIC -g -O2 -Wall -c Rcpp_BH_ANOVA.cpp -o Rcpp_BH_ANOVA.o In file included from /home/biocbuild/R/R-4.3.1/site-library/BH/include/boost/mpl/aux_/na_assert.hpp:23, from /home/biocbuild/R/R-4.3.1/site-library/BH/include/boost/mpl/arg.hpp:25, from /home/biocbuild/R/R-4.3.1/site-library/BH/include/boost/mpl/placeholders.hpp:24, from /home/biocbuild/R/R-4.3.1/site-library/BH/include/boost/iterator/iterator_categories.hpp:16, from /home/biocbuild/R/R-4.3.1/site-library/BH/include/boost/iterator/iterator_facade.hpp:13, from /home/biocbuild/R/R-4.3.1/site-library/BH/include/boost/range/iterator_range_core.hpp:27, from /home/biocbuild/R/R-4.3.1/site-library/BH/include/boost/lexical_cast.hpp:30, from /home/biocbuild/R/R-4.3.1/site-library/BH/include/boost/math/tools/convert_from_string.hpp:15, from /home/biocbuild/R/R-4.3.1/site-library/BH/include/boost/math/constants/constants.hpp:14, from /home/biocbuild/R/R-4.3.1/site-library/BH/include/boost/math/special_functions/gamma.hpp:24, from /home/biocbuild/R/R-4.3.1/site-library/BH/include/boost/math/special_functions/beta.hpp:15, from /home/biocbuild/R/R-4.3.1/site-library/BH/include/boost/math/distributions/fisher_f.hpp:12, from Rcpp_BH_ANOVA.cpp:4: /home/biocbuild/R/R-4.3.1/site-library/BH/include/boost/mpl/assert.hpp:194:21: warning: unnecessary parentheses in declaration of ‘assert_arg’ [-Wparentheses] 194 | failed ************ (Pred::************ | ^ /home/biocbuild/R/R-4.3.1/site-library/BH/include/boost/mpl/assert.hpp:199:21: warning: unnecessary parentheses in declaration of ‘assert_not_arg’ [-Wparentheses] 199 | failed ************ (boost::mpl::not_::************ | ^ In file included from /home/biocbuild/R/R-4.3.1/site-library/BH/include/boost/math/distributions/fisher_f.hpp:12, from Rcpp_BH_ANOVA.cpp:4: /home/biocbuild/R/R-4.3.1/site-library/BH/include/boost/math/special_functions/beta.hpp: In instantiation of ‘boost::math::detail::ibeta_fraction2_t::result_type boost::math::detail::ibeta_fraction2_t::operator()() [with T = long double; boost::math::detail::ibeta_fraction2_t::result_type = std::pair]’: /home/biocbuild/R/R-4.3.1/site-library/BH/include/boost/math/tools/fraction.hpp:123:20: required from ‘typename boost::math::tools::detail::fraction_traits::result_type boost::math::tools::continued_fraction_b(Gen&, const U&, uintmax_t&) [with Gen = boost::math::detail::ibeta_fraction2_t; U = long double; typename boost::math::tools::detail::fraction_traits::result_type = long double; uintmax_t = long unsigned int]’ /home/biocbuild/R/R-4.3.1/site-library/BH/include/boost/math/tools/fraction.hpp:156:31: required from ‘typename boost::math::tools::detail::fraction_traits::result_type boost::math::tools::continued_fraction_b(Gen&, const U&) [with Gen = boost::math::detail::ibeta_fraction2_t; U = long double; typename boost::math::tools::detail::fraction_traits::result_type = long double]’ /home/biocbuild/R/R-4.3.1/site-library/BH/include/boost/math/special_functions/beta.hpp:729:54: required from ‘T boost::math::detail::ibeta_fraction2(T, T, T, T, const Policy&, bool, T*) [with T = long double; Policy = boost::math::policies::policy, boost::math::policies::promote_double, boost::math::policies::default_policy, boost::math::policies::default_policy, boost::math::policies::default_policy, boost::math::policies::default_policy, boost::math::policies::default_policy, boost::math::policies::default_policy, boost::math::policies::default_policy, boost::math::policies::default_policy, boost::math::policies::default_policy>]’ /home/biocbuild/R/R-4.3.1/site-library/BH/include/boost/math/special_functions/beta.hpp:1367:36: required from ‘T boost::math::detail::ibeta_imp(T, T, T, const Policy&, bool, bool, T*) [with T = long double; Policy = boost::math::policies::policy, boost::math::policies::promote_double, boost::math::policies::default_policy, boost::math::policies::default_policy, boost::math::policies::default_policy, boost::math::policies::default_policy, boost::math::policies::default_policy, boost::math::policies::default_policy, boost::math::policies::default_policy, boost::math::policies::default_policy, boost::math::policies::default_policy>]’ /home/biocbuild/R/R-4.3.1/site-library/BH/include/boost/math/special_functions/beta.hpp:1404:20: required from ‘T boost::math::detail::ibeta_imp(T, T, T, const Policy&, bool, bool) [with T = long double; Policy = boost::math::policies::policy, boost::math::policies::promote_double, boost::math::policies::default_policy, boost::math::policies::default_policy, boost::math::policies::default_policy, boost::math::policies::default_policy, boost::math::policies::default_policy, boost::math::policies::default_policy, boost::math::policies::default_policy, boost::math::policies::default_policy, boost::math::policies::default_policy>]’ /home/biocbuild/R/R-4.3.1/site-library/BH/include/boost/math/special_functions/beta.hpp:1566:93: required from ‘typename boost::math::tools::promote_args::type boost::math::ibetac(RT1, RT2, RT3, const Policy&) [with RT1 = double; RT2 = double; RT3 = double; Policy = boost::math::policies::policy; typename boost::math::tools::promote_args::type = double]’ /home/biocbuild/R/R-4.3.1/site-library/BH/include/boost/math/distributions/fisher_f.hpp:165:28: required from ‘RealType boost::math::cdf(const boost::math::fisher_f_distribution&, const RealType&) [with RealType = double; Policy = boost::math::policies::policy]’ Rcpp_BH_ANOVA.cpp:50:35: required from here /home/biocbuild/R/R-4.3.1/site-library/BH/include/boost/math/special_functions/beta.hpp:692:16: note: parameter passing for argument of type ‘std::pair’ when C++17 is enabled changed to match C++14 in GCC 10.1 692 | result_type operator()() | ^~~~~~~~ g++ -std=gnu++17 -I"/home/biocbuild/R/R-4.3.1/include" -DNDEBUG -I'/home/biocbuild/R/R-4.3.1/site-library/Rcpp/include' -I'/home/biocbuild/R/R-4.3.1/site-library/BH/include' -I/usr/local/include -fPIC -g -O2 -Wall -c Rcpp_BH_linear_regression.cpp -o Rcpp_BH_linear_regression.o In file included from /home/biocbuild/R/R-4.3.1/site-library/BH/include/boost/mpl/aux_/na_assert.hpp:23, from /home/biocbuild/R/R-4.3.1/site-library/BH/include/boost/mpl/arg.hpp:25, from /home/biocbuild/R/R-4.3.1/site-library/BH/include/boost/mpl/placeholders.hpp:24, from /home/biocbuild/R/R-4.3.1/site-library/BH/include/boost/iterator/iterator_categories.hpp:16, from /home/biocbuild/R/R-4.3.1/site-library/BH/include/boost/iterator/iterator_facade.hpp:13, from /home/biocbuild/R/R-4.3.1/site-library/BH/include/boost/range/iterator_range_core.hpp:27, from /home/biocbuild/R/R-4.3.1/site-library/BH/include/boost/lexical_cast.hpp:30, from /home/biocbuild/R/R-4.3.1/site-library/BH/include/boost/math/tools/convert_from_string.hpp:15, from /home/biocbuild/R/R-4.3.1/site-library/BH/include/boost/math/constants/constants.hpp:14, from /home/biocbuild/R/R-4.3.1/site-library/BH/include/boost/math/special_functions/gamma.hpp:24, from /home/biocbuild/R/R-4.3.1/site-library/BH/include/boost/math/special_functions/beta.hpp:15, from /home/biocbuild/R/R-4.3.1/site-library/BH/include/boost/math/distributions/students_t.hpp:16, from Rcpp_BH_linear_regression.cpp:4: /home/biocbuild/R/R-4.3.1/site-library/BH/include/boost/mpl/assert.hpp:194:21: warning: unnecessary parentheses in declaration of ‘assert_arg’ [-Wparentheses] 194 | failed ************ (Pred::************ | ^ /home/biocbuild/R/R-4.3.1/site-library/BH/include/boost/mpl/assert.hpp:199:21: warning: unnecessary parentheses in declaration of ‘assert_not_arg’ [-Wparentheses] 199 | failed ************ (boost::mpl::not_::************ | ^ In file included from /home/biocbuild/R/R-4.3.1/site-library/BH/include/boost/math/distributions/students_t.hpp:16, from Rcpp_BH_linear_regression.cpp:4: /home/biocbuild/R/R-4.3.1/site-library/BH/include/boost/math/special_functions/beta.hpp: In instantiation of ‘boost::math::detail::ibeta_fraction2_t::result_type boost::math::detail::ibeta_fraction2_t::operator()() [with T = long double; boost::math::detail::ibeta_fraction2_t::result_type = std::pair]’: /home/biocbuild/R/R-4.3.1/site-library/BH/include/boost/math/tools/fraction.hpp:123:20: required from ‘typename boost::math::tools::detail::fraction_traits::result_type boost::math::tools::continued_fraction_b(Gen&, const U&, uintmax_t&) [with Gen = boost::math::detail::ibeta_fraction2_t; U = long double; typename boost::math::tools::detail::fraction_traits::result_type = long double; uintmax_t = long unsigned int]’ /home/biocbuild/R/R-4.3.1/site-library/BH/include/boost/math/tools/fraction.hpp:156:31: required from ‘typename boost::math::tools::detail::fraction_traits::result_type boost::math::tools::continued_fraction_b(Gen&, const U&) [with Gen = boost::math::detail::ibeta_fraction2_t; U = long double; typename boost::math::tools::detail::fraction_traits::result_type = long double]’ /home/biocbuild/R/R-4.3.1/site-library/BH/include/boost/math/special_functions/beta.hpp:729:54: required from ‘T boost::math::detail::ibeta_fraction2(T, T, T, T, const Policy&, bool, T*) [with T = long double; Policy = boost::math::policies::policy, boost::math::policies::promote_double, boost::math::policies::default_policy, boost::math::policies::default_policy, boost::math::policies::default_policy, boost::math::policies::default_policy, boost::math::policies::default_policy, boost::math::policies::default_policy, boost::math::policies::default_policy, boost::math::policies::default_policy, boost::math::policies::default_policy>]’ /home/biocbuild/R/R-4.3.1/site-library/BH/include/boost/math/special_functions/beta.hpp:1367:36: required from ‘T boost::math::detail::ibeta_imp(T, T, T, const Policy&, bool, bool, T*) [with T = long double; Policy = boost::math::policies::policy, boost::math::policies::promote_double, boost::math::policies::default_policy, boost::math::policies::default_policy, boost::math::policies::default_policy, boost::math::policies::default_policy, boost::math::policies::default_policy, boost::math::policies::default_policy, boost::math::policies::default_policy, boost::math::policies::default_policy, boost::math::policies::default_policy>]’ /home/biocbuild/R/R-4.3.1/site-library/BH/include/boost/math/special_functions/beta.hpp:1404:20: required from ‘T boost::math::detail::ibeta_imp(T, T, T, const Policy&, bool, bool) [with T = long double; Policy = boost::math::policies::policy, boost::math::policies::promote_double, boost::math::policies::default_policy, boost::math::policies::default_policy, boost::math::policies::default_policy, boost::math::policies::default_policy, boost::math::policies::default_policy, boost::math::policies::default_policy, boost::math::policies::default_policy, boost::math::policies::default_policy, boost::math::policies::default_policy>]’ /home/biocbuild/R/R-4.3.1/site-library/BH/include/boost/math/special_functions/beta.hpp:1566:93: required from ‘typename boost::math::tools::promote_args::type boost::math::ibetac(RT1, RT2, RT3, const Policy&) [with RT1 = double; RT2 = double; RT3 = double; Policy = boost::math::policies::policy; typename boost::math::tools::promote_args::type = double]’ /home/biocbuild/R/R-4.3.1/site-library/BH/include/boost/math/distributions/students_t.hpp:200:29: required from ‘RealType boost::math::cdf(const boost::math::students_t_distribution&, const RealType&) [with RealType = double; Policy = boost::math::policies::policy]’ Rcpp_BH_linear_regression.cpp:74:44: required from here /home/biocbuild/R/R-4.3.1/site-library/BH/include/boost/math/special_functions/beta.hpp:692:16: note: parameter passing for argument of type ‘std::pair’ when C++17 is enabled changed to match C++14 in GCC 10.1 692 | result_type operator()() | ^~~~~~~~ g++ -std=gnu++17 -I"/home/biocbuild/R/R-4.3.1/include" -DNDEBUG -I'/home/biocbuild/R/R-4.3.1/site-library/Rcpp/include' -I'/home/biocbuild/R/R-4.3.1/site-library/BH/include' -I/usr/local/include -fPIC -g -O2 -Wall -c Rcpp_BH_ttest.cpp -o Rcpp_BH_ttest.o In file included from /home/biocbuild/R/R-4.3.1/site-library/BH/include/boost/mpl/aux_/na_assert.hpp:23, from /home/biocbuild/R/R-4.3.1/site-library/BH/include/boost/mpl/arg.hpp:25, from /home/biocbuild/R/R-4.3.1/site-library/BH/include/boost/mpl/placeholders.hpp:24, from /home/biocbuild/R/R-4.3.1/site-library/BH/include/boost/iterator/iterator_categories.hpp:16, from /home/biocbuild/R/R-4.3.1/site-library/BH/include/boost/iterator/iterator_facade.hpp:13, from /home/biocbuild/R/R-4.3.1/site-library/BH/include/boost/range/iterator_range_core.hpp:27, from /home/biocbuild/R/R-4.3.1/site-library/BH/include/boost/lexical_cast.hpp:30, from /home/biocbuild/R/R-4.3.1/site-library/BH/include/boost/math/tools/convert_from_string.hpp:15, from /home/biocbuild/R/R-4.3.1/site-library/BH/include/boost/math/constants/constants.hpp:14, from /home/biocbuild/R/R-4.3.1/site-library/BH/include/boost/math/special_functions/gamma.hpp:24, from /home/biocbuild/R/R-4.3.1/site-library/BH/include/boost/math/special_functions/beta.hpp:15, from /home/biocbuild/R/R-4.3.1/site-library/BH/include/boost/math/distributions/students_t.hpp:16, from Rcpp_BH_ttest.cpp:4: /home/biocbuild/R/R-4.3.1/site-library/BH/include/boost/mpl/assert.hpp:194:21: warning: unnecessary parentheses in declaration of ‘assert_arg’ [-Wparentheses] 194 | failed ************ (Pred::************ | ^ /home/biocbuild/R/R-4.3.1/site-library/BH/include/boost/mpl/assert.hpp:199:21: warning: unnecessary parentheses in declaration of ‘assert_not_arg’ [-Wparentheses] 199 | failed ************ (boost::mpl::not_::************ | ^ In file included from /home/biocbuild/R/R-4.3.1/site-library/BH/include/boost/math/distributions/students_t.hpp:16, from Rcpp_BH_ttest.cpp:4: /home/biocbuild/R/R-4.3.1/site-library/BH/include/boost/math/special_functions/beta.hpp: In instantiation of ‘boost::math::detail::ibeta_fraction2_t::result_type boost::math::detail::ibeta_fraction2_t::operator()() [with T = long double; boost::math::detail::ibeta_fraction2_t::result_type = std::pair]’: /home/biocbuild/R/R-4.3.1/site-library/BH/include/boost/math/tools/fraction.hpp:123:20: required from ‘typename boost::math::tools::detail::fraction_traits::result_type boost::math::tools::continued_fraction_b(Gen&, const U&, uintmax_t&) [with Gen = boost::math::detail::ibeta_fraction2_t; U = long double; typename boost::math::tools::detail::fraction_traits::result_type = long double; uintmax_t = long unsigned int]’ /home/biocbuild/R/R-4.3.1/site-library/BH/include/boost/math/tools/fraction.hpp:156:31: required from ‘typename boost::math::tools::detail::fraction_traits::result_type boost::math::tools::continued_fraction_b(Gen&, const U&) [with Gen = boost::math::detail::ibeta_fraction2_t; U = long double; typename boost::math::tools::detail::fraction_traits::result_type = long double]’ /home/biocbuild/R/R-4.3.1/site-library/BH/include/boost/math/special_functions/beta.hpp:729:54: required from ‘T boost::math::detail::ibeta_fraction2(T, T, T, T, const Policy&, bool, T*) [with T = long double; Policy = boost::math::policies::policy, boost::math::policies::promote_double, boost::math::policies::default_policy, boost::math::policies::default_policy, boost::math::policies::default_policy, boost::math::policies::default_policy, boost::math::policies::default_policy, boost::math::policies::default_policy, boost::math::policies::default_policy, boost::math::policies::default_policy, boost::math::policies::default_policy>]’ /home/biocbuild/R/R-4.3.1/site-library/BH/include/boost/math/special_functions/beta.hpp:1367:36: required from ‘T boost::math::detail::ibeta_imp(T, T, T, const Policy&, bool, bool, T*) [with T = long double; Policy = boost::math::policies::policy, boost::math::policies::promote_double, boost::math::policies::default_policy, boost::math::policies::default_policy, boost::math::policies::default_policy, boost::math::policies::default_policy, boost::math::policies::default_policy, boost::math::policies::default_policy, boost::math::policies::default_policy, boost::math::policies::default_policy, boost::math::policies::default_policy>]’ /home/biocbuild/R/R-4.3.1/site-library/BH/include/boost/math/special_functions/beta.hpp:1404:20: required from ‘T boost::math::detail::ibeta_imp(T, T, T, const Policy&, bool, bool) [with T = long double; Policy = boost::math::policies::policy, boost::math::policies::promote_double, boost::math::policies::default_policy, boost::math::policies::default_policy, boost::math::policies::default_policy, boost::math::policies::default_policy, boost::math::policies::default_policy, boost::math::policies::default_policy, boost::math::policies::default_policy, boost::math::policies::default_policy, boost::math::policies::default_policy>]’ /home/biocbuild/R/R-4.3.1/site-library/BH/include/boost/math/special_functions/beta.hpp:1566:93: required from ‘typename boost::math::tools::promote_args::type boost::math::ibetac(RT1, RT2, RT3, const Policy&) [with RT1 = double; RT2 = double; RT3 = double; Policy = boost::math::policies::policy; typename boost::math::tools::promote_args::type = double]’ /home/biocbuild/R/R-4.3.1/site-library/BH/include/boost/math/distributions/students_t.hpp:200:29: required from ‘RealType boost::math::cdf(const boost::math::students_t_distribution&, const RealType&) [with RealType = double; Policy = boost::math::policies::policy]’ Rcpp_BH_ttest.cpp:29:39: required from here /home/biocbuild/R/R-4.3.1/site-library/BH/include/boost/math/special_functions/beta.hpp:692:16: note: parameter passing for argument of type ‘std::pair’ when C++17 is enabled changed to match C++14 in GCC 10.1 692 | result_type operator()() | ^~~~~~~~ g++ -std=gnu++17 -shared -L/home/biocbuild/R/R-4.3.1/lib -L/usr/local/lib -o COHCAP.so RcppExports.o Rcpp_BH_ANOVA.o Rcpp_BH_linear_regression.o Rcpp_BH_ttest.o -L/home/biocbuild/R/R-4.3.1/lib -lR installing to /home/biocbuild/R/R-4.3.1/site-library/00LOCK-COHCAP/00new/COHCAP/libs ** R ** inst ** byte-compile and prepare package for lazy loading ** help *** installing help indices ** building package indices ** installing vignettes ** testing if installed package can be loaded from temporary location ** checking absolute paths in shared objects and dynamic libraries ** testing if installed package can be loaded from final location ** testing if installed package keeps a record of temporary installation path * DONE (COHCAP)