Package: COHCAP Version: 1.48.0 Command: /home/biocbuild/R/R-4.3.1/bin/R CMD check --install=check:COHCAP.install-out.txt --library=/home/biocbuild/R/R-4.3.1/site-library --no-vignettes --timings COHCAP_1.48.0.tar.gz StartedAt: 2023-11-02 09:28:52 -0000 (Thu, 02 Nov 2023) EndedAt: 2023-11-02 09:29:34 -0000 (Thu, 02 Nov 2023) EllapsedTime: 42.1 seconds RetCode: 0 Status: OK CheckDir: COHCAP.Rcheck Warnings: 0